BEGIN:VCALENDAR
VERSION:2.0
PRODID:-//TSV Oberalteich 1962 e.V. - ECPv6.15.20//NONSGML v1.0//EN
CALSCALE:GREGORIAN
METHOD:PUBLISH
X-ORIGINAL-URL:https://www.tsv-oberalteich.de
X-WR-CALDESC:Veranstaltungen für TSV Oberalteich 1962 e.V.
REFRESH-INTERVAL;VALUE=DURATION:PT1H
X-Robots-Tag:noindex
X-PUBLISHED-TTL:PT1H
BEGIN:VTIMEZONE
TZID:Europe/Berlin
BEGIN:DAYLIGHT
TZOFFSETFROM:+0100
TZOFFSETTO:+0200
TZNAME:CEST
DTSTART:20230326T010000
END:DAYLIGHT
BEGIN:STANDARD
TZOFFSETFROM:+0200
TZOFFSETTO:+0100
TZNAME:CET
DTSTART:20231029T010000
END:STANDARD
BEGIN:DAYLIGHT
TZOFFSETFROM:+0100
TZOFFSETTO:+0200
TZNAME:CEST
DTSTART:20240331T010000
END:DAYLIGHT
BEGIN:STANDARD
TZOFFSETFROM:+0200
TZOFFSETTO:+0100
TZNAME:CET
DTSTART:20241027T010000
END:STANDARD
BEGIN:DAYLIGHT
TZOFFSETFROM:+0100
TZOFFSETTO:+0200
TZNAME:CEST
DTSTART:20250330T010000
END:DAYLIGHT
BEGIN:STANDARD
TZOFFSETFROM:+0200
TZOFFSETTO:+0100
TZNAME:CET
DTSTART:20251026T010000
END:STANDARD
END:VTIMEZONE
BEGIN:VEVENT
DTSTART;TZID=Europe/Berlin:20240302T193000
DTEND;TZID=Europe/Berlin:20240302T233000
DTSTAMP:20260421T124732
CREATED:20231113T221453Z
LAST-MODIFIED:20231113T221453Z
UID:3603-1709407800-1709422200@www.tsv-oberalteich.de
SUMMARY:Jahreshauptversammlung
DESCRIPTION:
URL:https://www.tsv-oberalteich.de/event/jahreshauptversammlung/
LOCATION:Gasthaus Plötz\, Großlintach 29\, Bogen\, Bayern\, 94327\, Deutschland
END:VEVENT
BEGIN:VEVENT
DTSTART;VALUE=DATE:20240309
DTEND;VALUE=DATE:20240311
DTSTAMP:20260421T124732
CREATED:20231120T193112Z
LAST-MODIFIED:20240222T203720Z
UID:3662-1709942400-1710115199@www.tsv-oberalteich.de
SUMMARY:TSV Oberalteich BEZ Cup 2024 E-Jugend
DESCRIPTION:
URL:https://www.tsv-oberalteich.de/event/tsv-oberalteich-hallencup-e-jugend/
LOCATION:Dreifachturnhalle Bogen\, Wittelsbacherstraße 4\, Bogen\, Bayern\, 94327\, Deutschland
END:VEVENT
BEGIN:VEVENT
DTSTART;TZID=Europe/Berlin:20240316T083000
DTEND;TZID=Europe/Berlin:20240316T183000
DTSTAMP:20260421T124732
CREATED:20231120T193348Z
LAST-MODIFIED:20231120T193348Z
UID:3666-1710577800-1710613800@www.tsv-oberalteich.de
SUMMARY:TSV Oberalteich Hallencup G-Jugend Minifußball
DESCRIPTION:
URL:https://www.tsv-oberalteich.de/event/tsv-oberalteich-hallencup-g-jugend-minifussball/
LOCATION:Dreifachturnhalle Bogen\, Wittelsbacherstraße 4\, Bogen\, Bayern\, 94327\, Deutschland
END:VEVENT
BEGIN:VEVENT
DTSTART;TZID=Europe/Berlin:20240317T090000
DTEND;TZID=Europe/Berlin:20240317T160000
DTSTAMP:20260421T124732
CREATED:20231120T193300Z
LAST-MODIFIED:20231120T193444Z
UID:3664-1710666000-1710691200@www.tsv-oberalteich.de
SUMMARY:TSV Oberalteich Hallencup F-Jugend Minifußball
DESCRIPTION:
URL:https://www.tsv-oberalteich.de/event/tsv-oberalteich-hallencup-f-jugend-minifussball/
LOCATION:Dreifachturnhalle Bogen\, Wittelsbacherstraße 4\, Bogen\, Bayern\, 94327\, Deutschland
END:VEVENT
BEGIN:VEVENT
DTSTART;TZID=Europe/Berlin:20240318T193000
DTEND;TZID=Europe/Berlin:20240318T220000
DTSTAMP:20260421T124732
CREATED:20240222T203235Z
LAST-MODIFIED:20240306T211159Z
UID:4080-1710790200-1710799200@www.tsv-oberalteich.de
SUMMARY:Trainersitzung Fußballjugend
DESCRIPTION:
URL:https://www.tsv-oberalteich.de/event/trainersitzung-fussballjugend-2/
LOCATION:Sportplatz Oberalteich\, Veit-Höser-Straße\, Bogen\, Bayern\, 94327\, Deutschland
CATEGORIES:Fußball
END:VEVENT
END:VCALENDAR