BEGIN:VCALENDAR
VERSION:2.0
PRODID:-//TSV Oberalteich 1962 e.V. - ECPv6.15.20//NONSGML v1.0//EN
CALSCALE:GREGORIAN
METHOD:PUBLISH
X-ORIGINAL-URL:https://www.tsv-oberalteich.de
X-WR-CALDESC:Veranstaltungen für TSV Oberalteich 1962 e.V.
REFRESH-INTERVAL;VALUE=DURATION:PT1H
X-Robots-Tag:noindex
X-PUBLISHED-TTL:PT1H
BEGIN:VTIMEZONE
TZID:Europe/Berlin
BEGIN:DAYLIGHT
TZOFFSETFROM:+0100
TZOFFSETTO:+0200
TZNAME:CEST
DTSTART:20240331T010000
END:DAYLIGHT
BEGIN:STANDARD
TZOFFSETFROM:+0200
TZOFFSETTO:+0100
TZNAME:CET
DTSTART:20241027T010000
END:STANDARD
BEGIN:DAYLIGHT
TZOFFSETFROM:+0100
TZOFFSETTO:+0200
TZNAME:CEST
DTSTART:20250330T010000
END:DAYLIGHT
BEGIN:STANDARD
TZOFFSETFROM:+0200
TZOFFSETTO:+0100
TZNAME:CET
DTSTART:20251026T010000
END:STANDARD
BEGIN:DAYLIGHT
TZOFFSETFROM:+0100
TZOFFSETTO:+0200
TZNAME:CEST
DTSTART:20260329T010000
END:DAYLIGHT
BEGIN:STANDARD
TZOFFSETFROM:+0200
TZOFFSETTO:+0100
TZNAME:CET
DTSTART:20261025T010000
END:STANDARD
END:VTIMEZONE
BEGIN:VEVENT
DTSTART;TZID=Europe/Berlin:20250110T170000
DTEND;TZID=Europe/Berlin:20250110T230000
DTSTAMP:20260421T112937
CREATED:20250107T205049Z
LAST-MODIFIED:20250107T205049Z
UID:5247-1736528400-1736550000@www.tsv-oberalteich.de
SUMMARY:Fackelwanderung 2025
DESCRIPTION:
URL:https://www.tsv-oberalteich.de/event/fackelwanderung-2025/
LOCATION:Grundschule Oberalteich\, Veit-Höser-Straße 2\, Bogen\, Bayern\, 94327\, Deutschland
CATEGORIES:Verein
ORGANIZER;CN="TSV Oberalteich":MAILTO:info@tsv-oberalteich.de
END:VEVENT
END:VCALENDAR