BEGIN:VCALENDAR
VERSION:2.0
PRODID:-//TSV Oberalteich 1962 e.V. - ECPv6.15.20//NONSGML v1.0//EN
CALSCALE:GREGORIAN
METHOD:PUBLISH
X-WR-CALNAME:TSV Oberalteich 1962 e.V.
X-ORIGINAL-URL:https://www.tsv-oberalteich.de
X-WR-CALDESC:Veranstaltungen für TSV Oberalteich 1962 e.V.
REFRESH-INTERVAL;VALUE=DURATION:PT1H
X-Robots-Tag:noindex
X-PUBLISHED-TTL:PT1H
BEGIN:VTIMEZONE
TZID:Europe/Berlin
BEGIN:DAYLIGHT
TZOFFSETFROM:+0100
TZOFFSETTO:+0200
TZNAME:CEST
DTSTART:20230326T010000
END:DAYLIGHT
BEGIN:STANDARD
TZOFFSETFROM:+0200
TZOFFSETTO:+0100
TZNAME:CET
DTSTART:20231029T010000
END:STANDARD
BEGIN:DAYLIGHT
TZOFFSETFROM:+0100
TZOFFSETTO:+0200
TZNAME:CEST
DTSTART:20240331T010000
END:DAYLIGHT
BEGIN:STANDARD
TZOFFSETFROM:+0200
TZOFFSETTO:+0100
TZNAME:CET
DTSTART:20241027T010000
END:STANDARD
BEGIN:DAYLIGHT
TZOFFSETFROM:+0100
TZOFFSETTO:+0200
TZNAME:CEST
DTSTART:20250330T010000
END:DAYLIGHT
BEGIN:STANDARD
TZOFFSETFROM:+0200
TZOFFSETTO:+0100
TZNAME:CET
DTSTART:20251026T010000
END:STANDARD
END:VTIMEZONE
BEGIN:VEVENT
DTSTART;TZID=Europe/Berlin:20240225T100000
DTEND;TZID=Europe/Berlin:20240225T170000
DTSTAMP:20260421T155329
CREATED:20240223T102207Z
LAST-MODIFIED:20240223T102207Z
UID:4090-1708855200-1708880400@www.tsv-oberalteich.de
SUMMARY:Klausurtagung 2024
DESCRIPTION:
URL:https://www.tsv-oberalteich.de/event/klausurtagung-2024/
LOCATION:Gasthof Menauer\, Grandsberg 6\, Schwarzach\, Bayern\, 94374\, Deutschland
CATEGORIES:Sitzungen
ORGANIZER;CN="TSV Oberalteich":MAILTO:info@tsv-oberalteich.de
END:VEVENT
END:VCALENDAR